BEGIN:VCALENDAR
VERSION:2.0
PRODID:-//Blackout - ECPv6.7.0//NONSGML v1.0//EN
CALSCALE:GREGORIAN
METHOD:PUBLISH
X-WR-CALNAME:Blackout
X-ORIGINAL-URL:https://theblackout.mx/site
X-WR-CALDESC:Eventos para Blackout
REFRESH-INTERVAL;VALUE=DURATION:PT1H
X-Robots-Tag:noindex
X-PUBLISHED-TTL:PT1H
BEGIN:VTIMEZONE
TZID:UTC
BEGIN:STANDARD
TZOFFSETFROM:+0000
TZOFFSETTO:+0000
TZNAME:UTC
DTSTART:20220101T000000
END:STANDARD
END:VTIMEZONE
BEGIN:VEVENT
DTSTART;TZID=UTC:20221115T103000
DTEND;TZID=UTC:20230624T170000
DTSTAMP:20260423T195517
CREATED:20200428T132335Z
LAST-MODIFIED:20230513T171920Z
UID:1196-1668508200-1687626000@theblackout.mx
SUMMARY:NAVIDAD CON BLACKOUT
DESCRIPTION:Este evento es para que pasemos las fiestas todos con tu familia Blackout\, es el momento de pasarla genial!
URL:https://theblackout.mx/site/eventos/navidad-con-blackout/
LOCATION:Manhattan Club\, 350 5th Ave New York\, NY 10118 United States + Google Map
CATEGORIES:Concert
ATTACH;FMTTYPE=image/jpeg:https://theblackout.mx/site/wp-content/uploads/2020/04/image-28.jpg
ORGANIZER;CN="Ashton Porter":MAILTO:info@example.com
END:VEVENT
BEGIN:VEVENT
DTSTART;TZID=UTC:20221015T080000
DTEND;TZID=UTC:20230702T163000
DTSTAMP:20260423T195517
CREATED:20200428T132832Z
LAST-MODIFIED:20230513T171617Z
UID:1200-1665820800-1688315400@theblackout.mx
SUMMARY:DIA MEXICANO
DESCRIPTION:En este evento te daremos una fuerte experiencia de lo que significa ser mexicano ¡que viva México!
URL:https://theblackout.mx/site/eventos/dia-mexicano/
LOCATION:Manhattan Club\, 350 5th Ave New York\, NY 10118 United States + Google Map
CATEGORIES:Concert
ATTACH;FMTTYPE=image/jpeg:https://theblackout.mx/site/wp-content/uploads/2020/04/image-29.jpg
ORGANIZER;CN="Ashton Porter":MAILTO:info@example.com
END:VEVENT
BEGIN:VEVENT
DTSTART;TZID=UTC:20220908T150000
DTEND;TZID=UTC:20230908T190000
DTSTAMP:20260423T195517
CREATED:20200504T180421Z
LAST-MODIFIED:20230513T144045Z
UID:1737-1662649200-1694199600@theblackout.mx
SUMMARY:EL DIA DE HALLOWEEN
DESCRIPTION:En este evento puedes venir disfrazado pondremos una casa del terror\, no te lo pierdas!!
URL:https://theblackout.mx/site/eventos/dia-de-halloween/
LOCATION:Manhattan Club\, 350 5th Ave New York\, NY 10118 United States + Google Map
CATEGORIES:Show
ATTACH;FMTTYPE=image/jpeg:https://theblackout.mx/site/wp-content/uploads/2022/04/image-50.jpg
ORGANIZER;CN="Ashton Porter":MAILTO:info@example.com
END:VEVENT
BEGIN:VEVENT
DTSTART;TZID=UTC:20220908T133000
DTEND;TZID=UTC:20230908T170000
DTSTAMP:20260423T195517
CREATED:20200504T181610Z
LAST-MODIFIED:20230513T144448Z
UID:1743-1662643800-1694192400@theblackout.mx
SUMMARY:EL DIA PARA LOS ENAMORADOS OH ¿NO?
DESCRIPTION:En este evento celebramos el día de los novios\, pero también seremos cupido para quienes no tengas novia vengan por la suya.
URL:https://theblackout.mx/site/eventos/el-dia-de-los-enamorados/
LOCATION:Manhattan Club\, 350 5th Ave New York\, NY 10118 United States + Google Map
CATEGORIES:Show
ATTACH;FMTTYPE=image/jpeg:https://theblackout.mx/site/wp-content/uploads/2020/04/image-35.jpg
ORGANIZER;CN="Ashton Porter":MAILTO:info@example.com
END:VEVENT
BEGIN:VEVENT
DTSTART;TZID=UTC:20220908T110000
DTEND;TZID=UTC:20230908T110000
DTSTAMP:20260423T195517
CREATED:20200428T140044Z
LAST-MODIFIED:20230513T143827Z
UID:1213-1662634800-1694170800@theblackout.mx
SUMMARY:TECNO VIBE
DESCRIPTION:Este evento solo les podemos decir que venga a gozar de una experiencia inolvidable amantes de blackout…….
URL:https://theblackout.mx/site/eventos/tecno-vibe/
LOCATION:Manhattan Club\, 350 5th Ave New York\, NY 10118 United States + Google Map
CATEGORIES:Festival
ATTACH;FMTTYPE=image/jpeg:https://theblackout.mx/site/wp-content/uploads/2022/04/image-6.jpg
ORGANIZER;CN="Ashton Porter":MAILTO:info@example.com
END:VEVENT
BEGIN:VEVENT
DTSTART;TZID=UTC:20220908T100000
DTEND;TZID=UTC:20230908T153000
DTSTAMP:20260423T195517
CREATED:20200504T180631Z
LAST-MODIFIED:20230513T143744Z
UID:1739-1662631200-1694187000@theblackout.mx
SUMMARY:LOS MEJORES EXITOS DEL 2023
DESCRIPTION:En este evento ponemos los temas que ustedes votaron como favoritos durante todo el año\, para la mejor celebración de\ntodas!!.
URL:https://theblackout.mx/site/eventos/los-mejores-exitos-del-2023/
LOCATION:Manhattan Club\, 350 5th Ave New York\, NY 10118 United States + Google Map
CATEGORIES:Show
ATTACH;FMTTYPE=image/jpeg:https://theblackout.mx/site/wp-content/uploads/2020/05/image-54.jpg
ORGANIZER;CN="Ashton Porter":MAILTO:info@example.com
END:VEVENT
BEGIN:VEVENT
DTSTART;TZID=UTC:20220908T100000
DTEND;TZID=UTC:20230908T163000
DTSTAMP:20260423T195517
CREATED:20200428T135723Z
LAST-MODIFIED:20230513T144345Z
UID:1210-1662631200-1694190600@theblackout.mx
SUMMARY:LOS MEJORES MOMENTOS DEL AÑO
DESCRIPTION:Este evento celebraremos año nuevo\, con muchas sorpresas en la noche\, es un evento con muchas cosas para transportarnos a años mejores.
URL:https://theblackout.mx/site/eventos/los-mejores-momentos/
LOCATION:Manhattan Club\, 350 5th Ave New York\, NY 10118 United States + Google Map
CATEGORIES:Festival
ATTACH;FMTTYPE=image/jpeg:https://theblackout.mx/site/wp-content/uploads/2022/04/image-12.jpg
ORGANIZER;CN="Ashton Porter":MAILTO:info@example.com
END:VEVENT
BEGIN:VEVENT
DTSTART;TZID=UTC:20220908T090000
DTEND;TZID=UTC:20230908T233000
DTSTAMP:20260423T195517
CREATED:20200504T181127Z
LAST-MODIFIED:20230513T143547Z
UID:1741-1662627600-1694215800@theblackout.mx
SUMMARY:LOS MEJORES SENCILLOS DE CADA DJ
DESCRIPTION:En este evento pondremos los mejores sencillos de cada dj para que puedan gozar sin para con el mejor ritmo.
URL:https://theblackout.mx/site/eventos/los-mejores-sencillos/
LOCATION:Manhattan Club\, 350 5th Ave New York\, NY 10118 United States + Google Map
CATEGORIES:Show
ATTACH;FMTTYPE=image/jpeg:https://theblackout.mx/site/wp-content/uploads/2020/04/image-53.jpg
ORGANIZER;CN="Ashton Porter":MAILTO:info@example.com
END:VEVENT
BEGIN:VEVENT
DTSTART;TZID=UTC:20220908T080000
DTEND;TZID=UTC:20230908T170000
DTSTAMP:20260423T195517
CREATED:20200716T143837Z
LAST-MODIFIED:20230513T143442Z
UID:8860-1662624000-1694192400@theblackout.mx
SUMMARY:CONCIERTO DE ESTILOS
DESCRIPTION:En este evento los pondremos a prueba\, ya que durante toda la noche pondremos todo tipo de estilos hasta una hora en especifico y se hará un concurso en el que tiene que adivinar los géneros en orden\, quien adivine más se ganara el premio de la noche.
URL:https://theblackout.mx/site/eventos/concierto-de-estilos/
LOCATION:Manhattan Club\, 350 5th Ave New York\, NY 10118 United States + Google Map
CATEGORIES:Festival
ATTACH;FMTTYPE=image/jpeg:https://theblackout.mx/site/wp-content/uploads/2022/04/image-52.jpg
ORGANIZER;CN="Ashton Porter":MAILTO:info@example.com
END:VEVENT
BEGIN:VEVENT
DTSTART;TZID=UTC:20220908T080000
DTEND;TZID=UTC:20230908T080000
DTSTAMP:20260423T195517
CREATED:20200428T140523Z
LAST-MODIFIED:20230513T143355Z
UID:1215-1662624000-1694160000@theblackout.mx
SUMMARY:LOS MEJORES DJS
DESCRIPTION:En este evento les presentaremos a los mejores djs elegidos por ustedes y que demostraron en Blackout estar en ese\npuesto\, tocaran sus temas mas escuchados. \n 
URL:https://theblackout.mx/site/eventos/the-best-djs/
LOCATION:Manhattan Club\, 350 5th Ave New York\, NY 10118 United States + Google Map
CATEGORIES:Festival
ATTACH;FMTTYPE=image/jpeg:https://theblackout.mx/site/wp-content/uploads/2020/05/image-55.jpg
ORGANIZER;CN="Ashton Porter":MAILTO:info@example.com
END:VEVENT
END:VCALENDAR